BEGIN:VCALENDAR
VERSION:2.0
PRODID:icalendar-ruby
CALSCALE:GREGORIAN
METHOD:PUBLISH
BEGIN:VEVENT
DTSTAMP:20260425T170208Z
UID:34-314640@barrsmillchurch.org
DTSTART:20260520T220000Z
DTEND:20260520T233000Z
CLASS:PUBLIC
CREATED:20260424T102518
DESCRIPTION:
LAST-MODIFIED:20260424T102518
LOCATION:
SUMMARY:Children's Ministry Carnaval
URL;VALUE=URI:https://www.barrsmillchurch.org/events/childrens-ministry-car
 naval/2026-05-20
ATTACH;FILENAME=Carnival.jpg;FMTTYPE=image/jpeg:https://dq5pwpg1q8ru0.cloud
 front.net/2026/04/24/14/25/18/aa158f73-f77b-4460-abb4-d571a2994f35/Carniva
 l.jpg
END:VEVENT
END:VCALENDAR
