BEGIN:VCALENDAR
VERSION:2.0
PRODID:icalendar-ruby
CALSCALE:GREGORIAN
METHOD:PUBLISH
BEGIN:VEVENT
DTSTAMP:20260425T140106Z
UID:33-314639@barrsmillchurch.org
DTSTART:20260510T124500Z
DTEND:20260510T132500Z
CLASS:PUBLIC
CREATED:20260424T101837
DESCRIPTION:
LAST-MODIFIED:20260424T101837
LOCATION:Barrs Mill Church Cafe
SUMMARY:Muffins with Mom
URL;VALUE=URI:https://www.barrsmillchurch.org/events/muffins-with-mom/2026-
 05-10
ATTACH;FILENAME=Muffins With Mom.jpg;FMTTYPE=image/jpeg:https://dq5pwpg1q8r
 u0.cloudfront.net/2026/04/24/14/14/40/fa2330e9-50af-4d2f-841e-ed200c2d136c
 /Muffins%20With%20Mom.jpg
END:VEVENT
END:VCALENDAR
